BEGIN:VCALENDAR
VERSION:2.0
PRODID:-//KBBZ Neunkirchen - ECPv5.7.1//NONSGML v1.0//EN
CALSCALE:GREGORIAN
METHOD:PUBLISH
X-WR-CALNAME:KBBZ Neunkirchen
X-ORIGINAL-URL:https://kbbz-neunkirchen.de
X-WR-CALDESC:Veranstaltungen für KBBZ Neunkirchen
BEGIN:VTIMEZONE
TZID:Europe/Berlin
BEGIN:DAYLIGHT
TZOFFSETFROM:+0100
TZOFFSETTO:+0200
TZNAME:CEST
DTSTART:20240331T010000
END:DAYLIGHT
BEGIN:STANDARD
TZOFFSETFROM:+0200
TZOFFSETTO:+0100
TZNAME:CET
DTSTART:20241027T010000
END:STANDARD
END:VTIMEZONE
BEGIN:VEVENT
DTSTART;VALUE=DATE:20240605
DTEND;VALUE=DATE:20240608
DTSTAMP:20260421T123936
CREATED:20230831T110858Z
LAST-MODIFIED:20240111T111506Z
UID:6376-1717545600-1717804799@kbbz-neunkirchen.de
SUMMARY:BFS mündliche Prüfung
DESCRIPTION:
URL:https://kbbz-neunkirchen.de/termin/bfs-muendliche-pruefung-2/
END:VEVENT
END:VCALENDAR