BEGIN:VCALENDAR
VERSION:2.0
PRODID:-//KBBZ Neunkirchen - ECPv5.7.1//NONSGML v1.0//EN
CALSCALE:GREGORIAN
METHOD:PUBLISH
X-WR-CALNAME:KBBZ Neunkirchen
X-ORIGINAL-URL:https://kbbz-neunkirchen.de
X-WR-CALDESC:Veranstaltungen für KBBZ Neunkirchen
BEGIN:VTIMEZONE
TZID:Europe/Berlin
BEGIN:DAYLIGHT
TZOFFSETFROM:+0100
TZOFFSETTO:+0200
TZNAME:CEST
DTSTART:20240331T010000
END:DAYLIGHT
BEGIN:STANDARD
TZOFFSETFROM:+0200
TZOFFSETTO:+0100
TZNAME:CET
DTSTART:20241027T010000
END:STANDARD
END:VTIMEZONE
BEGIN:VEVENT
DTSTART;VALUE=DATE:20240621
DTEND;VALUE=DATE:20240622
DTSTAMP:20260419T163155
CREATED:20240111T112418Z
LAST-MODIFIED:20240111T112418Z
UID:6622-1718928000-1719014399@kbbz-neunkirchen.de
SUMMARY:BS: Zeugnisausgabe Abschlusszeugnisse
DESCRIPTION:E11\, E12\, B12\, G12\, I12\, M12 um 11:00 Uhr durch AL und durch die Klassenlehrer im Foyer
URL:https://kbbz-neunkirchen.de/termin/bs-zeugnisausgabe-abschlusszeugnisse-3/
END:VEVENT
END:VCALENDAR