BEGIN:VCALENDAR
VERSION:2.0
PRODID:-//KBBZ Neunkirchen - ECPv5.7.1//NONSGML v1.0//EN
CALSCALE:GREGORIAN
METHOD:PUBLISH
X-WR-CALNAME:KBBZ Neunkirchen
X-ORIGINAL-URL:https://kbbz-neunkirchen.de
X-WR-CALDESC:Veranstaltungen für KBBZ Neunkirchen
BEGIN:VTIMEZONE
TZID:Europe/Berlin
BEGIN:DAYLIGHT
TZOFFSETFROM:+0100
TZOFFSETTO:+0200
TZNAME:CEST
DTSTART:20230326T010000
END:DAYLIGHT
BEGIN:STANDARD
TZOFFSETFROM:+0200
TZOFFSETTO:+0100
TZNAME:CET
DTSTART:20231029T010000
END:STANDARD
END:VTIMEZONE
BEGIN:VEVENT
DTSTART;VALUE=DATE:20230921
DTEND;VALUE=DATE:20230922
DTSTAMP:20260424T143718
CREATED:20230831T111332Z
LAST-MODIFIED:20230831T111337Z
UID:6394-1695254400-1695340799@kbbz-neunkirchen.de
SUMMARY:IHK Büromanagement Teil 1
DESCRIPTION:
URL:https://kbbz-neunkirchen.de/termin/ihk-bueromanagement-teil-1-6/
END:VEVENT
END:VCALENDAR